Workbook

Sheet Aprobadas PLAN ANTIGUO
A1: CURSO | B1: SEMESTRE | C1: Plan ANTIGUO 417 | D1: PlanNUEVO 678 | E1: Código | F1: ¿Superada?
A2: 1º | B2: S1 | C2: Principios de Economía | D2: Fundamentos de administración y dirección de empresas | E2: 27400
A3: 1º | B3: S1 | C3: Economía de la Empresa | D3: Fundamentos de contabilidad | E3: 27401
A4: 1º | B4: S1 | C4: Matemáticas I | D4: Matemáticas para finanzas y contabilidad I | E4: 27402
A5: 1º | B5: S1 | C5: Estadística I | D5: Fundamentos de marketing | E5: 27403
A6: 1º | B6: S1 | C6: Principios de derecho y derecho mercantil | D6: Introducción al derecho mercantil | E6: 27404
A7: 1º | B7: S2 | C7: Introducción a la economía aplicada | D7: Historia económica y economía mundial | E7: 27405
A8: 1º | B8: S2 | C8: Historia económica mundial | D8: Contabilidad financiera | E8: 27406
A9: 1º | B9: S2 | C9: Introducción a las finanzas | D9: Fundamentos de microeconomía | E9: 27407
A10: 1º | B10: S2 | C10: Matemáticas II | D10: Matemáticas para finanzas y contabilidad II | E10: 27408
A11: 1º | B11: S2 | C11: Fundamentos de marketing | D11: Estadística y ciencia de datos I | E11: 27409
A12: 2º | B12: S1 | C12: Microeconomía I | D12: Estadística y ciencia de datos II | E12: 27410
A13: 2º | B13: S1 | C13: Macroeconomía I | D13: Fiscalidad de la empresa | E13: 27411
... A30: 4º | B30: S1 | C30: Macroeconomía III | D30: Bolsa y análisis bursátil | E30: 27428
A31: 4º | B31: S1 | C31: Econometría III | E31: 27429
A32: 4º | B32: S2 | C32: Macroeconomía IV | E32: 27430
A33: 4º | B33: S2 | C33: Trabajo Fin de Grado | D33: Valoración de empresas | E33: 27431
A34: 3º/4º | B34: S1 | C34: Economía Laboral | D34: Auditoría de estados financieros | E34: 27432
A35: 3º/4º | B35: S1 | C35: Comercio internacional | D35: Sistemas informativos contables para la contabilidad y las finanzas | E35: 27433
A36: 3º/4º | B36: S1 | C36: Contabilidad de las administraciones públicas | D36: Entidades bancarias y sus operaciones | E36: 27434
A37: 3º/4º | B37: S2 | C37: Decisión y juegos | D37: Emprendimiento y gestión del cambio | E37: 27435
A38: 3º/4º | B38: S2 | C38: Presupuesto y gasto público | D38: Gobierno corporativo, RSC y sostenibilidad | E38: 27436
A39: 3º/4º | B39: S2 | C39: Economía de las organizaciones | D39: Sistemas decisionales | E39: 27437
A40: 3º/4º | B40: S1/S2 | C40: Inglés para economistas | D40: Simulador de decisiones comerciales | E40: 27452
A41: 3º/4º | B41: S1 | C41: Globalización, desarrollo e historia | D41: Operaciones actuariales y de seguros | E41: 27438
A42: 3º/4º | B42: S1 | C42: Hacienda autonómica y local | D42: Análisis contable de las administraciones públicas | E42: 27439
A43: 3º/4º | B43: S1 | C43: Dirección de marketing | D43: Prácticas en empresa I | E43: 27440
A44: 3º/4º | B44: S1 | C44: Análisis contable | D44: Análisis multivariante en finanzas y contabilidad | E44: 27441
... A51: 3º/4º | B51: S2 | C51: Sistema monetario internacional | D51: Contabilidad de sociedades | E51: 27448
A52: 3º/4º | B52: S2 | C52: Innovación, crecimiento y sostenibilidad | E52: 27449
A53: 3º/4º | B53: S2 | C53: Banca y mercados financieros | E53: 27450
A54: 3º/4º | B54: S2 | C54: Sociología | E54: 27451
A55: 3º/4º | B55: S2 | C55: Coyuntura económica | E55: 27453
A56: 3º/4º | B56: S2 | C56: Técnicas de predicción | D56: Prácticas en empresa II | E56: 27454
A57: 3º/4º | B57: S2 | C57: Gestión pública | D57: Prácticas en empresa I y Prácticas en empresa II | E57: 27455
A58: 3º/4º | B58: S2 | C58: Gobierno electrónico y decisiones públicas | D58: Derecho de sociedades | E58: 27456
A59: 3º/4º | B59: S1 | C59: Prácticas en empresa I | E59: 27457
A60: 3º/4º | B60: S2 | C60: Prácticas en empresa II | E60: 27458
A61: 3º/4º | B61: A | C61: Prácticas en empresa | D61: Trabajo fin de Grado | E61: 27459

Sheet  Adaptadas PLAN NUEVO
A1: CURSO | B1: SEMESTRE | C1: Plan NUEVO 692 | D1: Código
A2: 1 | B2: S1 | C2: Fundamentos de Derecho Privado Patrimonial y Contratación Digital | D2: 31500 | E2: =IFERROR(VLOOKUP($C2,'Aprobadas PLAN ANTIGUO'!$D$2:$F$63,2,FALSE),"")
A3: 1 | B3: S1 | C3: Historia Económica Mundial | D3: 31501 | E3: =IFERROR(VLOOKUP($C3,'Aprobadas PLAN ANTIGUO'!$D$2:$F$63,2,FALSE),"")
A4: 1 | B4: S1 | C4: Introducción a las Finanzas | D4: 31502 | E4: =IFERROR(VLOOKUP($C4,'Aprobadas PLAN ANTIGUO'!$D$2:$F$63,2,FALSE),"")
A5: 1 | B5: S1 | C5: Matemáticas para la Economía I | D5: 31503 | E5: =IFERROR(VLOOKUP($C5,'Aprobadas PLAN ANTIGUO'!$D$2:$F$63,2,FALSE),"")
A6: 1 | B6: S1 | C6: Principios de Economía | D6: 31504 | E6: =IFERROR(VLOOKUP($C6,'Aprobadas PLAN ANTIGUO'!$D$2:$F$63,2,FALSE),"")
A7: 1 | B7: S2 | C7: Economía Mundial | D7: 31505 | E7: =IFERROR(VLOOKUP($C7,'Aprobadas PLAN ANTIGUO'!$D$2:$F$63,2,FALSE),"")
A8: 1 | B8: S2 | C8: Introducción a la Economía Aplicada | D8: 31506 | E8: =IFERROR(VLOOKUP($C9,'Aprobadas PLAN ANTIGUO'!$D$2:$F$63,2,FALSE),"")
A9: 1 | B9: S2 | C9: Introducción a la Estadística y a la Ciencia de Datos | D9: 31507 | E9: =IFERROR(VLOOKUP(#REF!,'Aprobadas PLAN ANTIGUO'!$D$2:$F$63,2,FALSE),"")
A10: 1 | B10: S2 | C10: Matemáticas para la Economía II | D10: 31508 | E10: =IFERROR(VLOOKUP($C10,'Aprobadas PLAN ANTIGUO'!$D$2:$F$63,2,FALSE),"")
A11: 1 | B11: S2 | C11: Microeconomía I: Consumo y Producción | D11: 31509 | E11: =IFERROR(VLOOKUP($C11,'Aprobadas PLAN ANTIGUO'!$D$2:$F$63,2,FALSE),"")
A12: 2 | B12: S1 | C12: Estadística y Ciencia de Datos en Economía | D12: 31510 | E12: =IFERROR(VLOOKUP($C12,'Aprobadas PLAN ANTIGUO'!$D$2:$F$63,2,FALSE),"")
A13: 2 | B13: S1 | C13: Historia Económica de España | D13: 31511 | E13: =IFERROR(VLOOKUP($C13,'Aprobadas PLAN ANTIGUO'!$D$2:$F$63,2,FALSE),"")
A14: 2 | B14: S1 | C14: Introducción a la Contabilidad | D14: 31512 | E14: =IFERROR(VLOOKUP($C14,'Aprobadas PLAN ANTIGUO'!$D$2:$F$63,2,FALSE),"")
A15: 2 | B15: S1 | C15: Macroeconomía I: Producción, Dinero y Precios | D15: 31513 | E15: =IFERROR(VLOOKUP($C15,'Aprobadas PLAN ANTIGUO'!$D$2:$F$63,2,FALSE),"")
A16: 2 | B16: S1 | C16: Microeconomía II: Mercados | D16: 31514 | E16: =IFERROR(VLOOKUP($C16,'Aprobadas PLAN ANTIGUO'!$D$2:$F$63,2,FALSE),"")
A17: 2 | B17: S2 | C17: Economía Española | D17: 31515 | E17: =IFERROR(VLOOKUP($C17,'Aprobadas PLAN ANTIGUO'!$D$2:$F$63,2,FALSE),"") -> 27416
A18: 2 | B18: S2 | C18: Fundamentos de la Intervención Pública | D18: 31516 | E18: =IFERROR(VLOOKUP($C18,'Aprobadas PLAN ANTIGUO'!$D$2:$F$63,2,FALSE),"")
A19: 2 | B19: S2 | C19: Introducción a la Econometría: Análisis y Tratamiento de Datos | D19: 31517 | E19: =IFERROR(VLOOKUP($C19,'Aprobadas PLAN ANTIGUO'!$D$2:$F$63,2,FALSE),"")
A20: 2 | B20: S2 | C20: Macroeconomía II: Inflación, Crecimiento y Sector Exterior | D20: 31518 | E20: =IFERROR(VLOOKUP(#REF!,'Aprobadas PLAN ANTIGUO'!$D$2:$F$63,2,FALSE),"")
A21: 2 | B21: S2 | C21: Organización y Dirección de Empresas | D21: 31519 | E21: =IFERROR(VLOOKUP($C20,'Aprobadas PLAN ANTIGUO'!$D$2:$F$63,2,FALSE),"") -> 27419
A22: 3 | B22: S1 | C22: Econometría Intermedia: Análisis y Tratamiento de Datos | D22: 31520 | E22: =IFERROR(VLOOKUP($C22,'Aprobadas PLAN ANTIGUO'!$D$2:$F$63,2,FALSE),"")
A23: 3 | B23: S1 | C23: Economía de la Imposición | D23: 31521 | E23: =IFERROR(VLOOKUP($C23,'Aprobadas PLAN ANTIGUO'!$D$2:$F$63,2,FALSE),"")
A24: 3 | B24: S1 | C24: Fundamentos de Marketing | D24: 31522 | E24: =IFERROR(VLOOKUP($C24,'Aprobadas PLAN ANTIGUO'!$D$2:$F$63,2,FALSE),"")
A25: 3 | B25: S1 | C25: Microeconomía Avanzada | D25: 31523 | E25: =IFERROR(VLOOKUP($C25,'Aprobadas PLAN ANTIGUO'!$D$2:$F$63,2,FALSE),"")
A26: 3 | B26: S1 | C26: Política Económica | D26: 31524 | E26: =IFERROR(VLOOKUP($C26,'Aprobadas PLAN ANTIGUO'!$D$2:$F$63,2,FALSE),"")
A27: 3 | B27: S2 | C27: Desafíos Económicos Globales | D27: 31525 | E27: =IFERROR(VLOOKUP($C27,'Aprobadas PLAN ANTIGUO'!$D$2:$F$63,2,FALSE),"")
A28: 3 | B28: S2 | C28: Econometría Avanzada: Análisis y Tratamiento de Datos | D28: 31526 | E28: =IFERROR(VLOOKUP($C28,'Aprobadas PLAN ANTIGUO'!$D$2:$F$63,2,FALSE),"")
A29: 3 | B29: S2 | C29: Economía Industrial | D29: 31527 | E29: =IFERROR(VLOOKUP($C29,'Aprobadas PLAN ANTIGUO'!$D$2:$F$63,2,FALSE),"")
A30: 3 | B30: S2 | C30: Macroeconomía Avanzada | D30: 31528 | E30: =IFERROR(VLOOKUP($C30,'Aprobadas PLAN ANTIGUO'!$D$2:$F$63,2,FALSE),"")
A31: 3 | B31: S2 | C31: Sistema Fiscal Español | D31: 31529 | E31: =IFERROR(VLOOKUP($C31,'Aprobadas PLAN ANTIGUO'!$D$2:$F$63,2,FALSE),"")
A32: 4 | B32: S1 | C32: Economía Internacional | D32: 31530 | E32: =IFERROR(VLOOKUP($C32,'Aprobadas PLAN ANTIGUO'!$D$2:$F$63,2,FALSE),"")
A33: 4 | B33: S1 | C33: Macroeconomía Dinámica | D33: 31531
A34: 4 | B34: S2 | C34: Trabajo fin de Grado | D34: 31532 | E34: =IFERROR(VLOOKUP($C34,'Aprobadas PLAN ANTIGUO'!$D$2:$F$63,2,FALSE),"") -> 27459
A35: 4 | B35: S1 | C35: Análisis Financiero | D35: 31533 | E35: =IFERROR(VLOOKUP($C35,'Aprobadas PLAN ANTIGUO'!$D$2:$F$63,2,FALSE),"")
A36: 4 | B36: S1 | C36: Análisis del Mercado de Trabajo | D36: 31534 | E36: =IFERROR(VLOOKUP($C36,'Aprobadas PLAN ANTIGUO'!$D$2:$F$63,2,FALSE),"")
A37: 4 | B37: S1 | C37: Diseño Organizativo | D37: 31535 | E37: =IFERROR(VLOOKUP($C37,'Aprobadas PLAN ANTIGUO'!$D$2:$F$63,2,FALSE),"") -> 27414
A38: 4 | B38: S1 | C38: Economía de la Gestión Pública | D38: 31536 | E38: =IFERROR(VLOOKUP($C38,'Aprobadas PLAN ANTIGUO'!$D$2:$F$63,2,FALSE),"")
A39: 4 | B39: S1 | C39: Estrategias Fiscales Empresariales | D39: 31537 | E39: =IFERROR(VLOOKUP($C39,'Aprobadas PLAN ANTIGUO'!$D$2:$F$63,2,FALSE),"")
A40: 4 | B40: S1 | C40: Inglés para Economistas | D40: 31538 | E40: =IFERROR(VLOOKUP($C40,'Aprobadas PLAN ANTIGUO'!$D$2:$F$63,2,FALSE),"")
...
